BEGIN:VCALENDAR
VERSION:2.0
PRODID:-//St. George Coptic Orthodox Church of Katy, TX - ECPv6.15.20//NONSGML v1.0//EN
CALSCALE:GREGORIAN
METHOD:PUBLISH
X-WR-CALNAME:St. George Coptic Orthodox Church of Katy, TX
X-ORIGINAL-URL:https://saintgeorgekaty.org
X-WR-CALDESC:Events for St. George Coptic Orthodox Church of Katy, TX
REFRESH-INTERVAL;VALUE=DURATION:PT1H
X-Robots-Tag:noindex
X-PUBLISHED-TTL:PT1H
BEGIN:VTIMEZONE
TZID:UTC
BEGIN:STANDARD
TZOFFSETFROM:+0000
TZOFFSETTO:+0000
TZNAME:UTC
DTSTART:20250101T000000
END:STANDARD
END:VTIMEZONE
BEGIN:VEVENT
DTSTART;TZID=UTC:20260412T123000
DTEND;TZID=UTC:20260412T163000
DTSTAMP:20260423T193234
CREATED:20260401T034329Z
LAST-MODIFIED:20260402T050616Z
UID:24297-1775997000-1776011400@saintgeorgekaty.org
SUMMARY:St George Resurrection Event 2026
DESCRIPTION:to register in St George Resurrection event (held at St. George) for Attendance\, Food Preparation\, or help with Activities\, please scan/click on the QR Code/link below:\nhttps://linktr.ee/Rita.rezk12
URL:https://saintgeorgekaty.org/event/st-george-resurrection-event/
LOCATION:St. Geroge Coptic Orthodox Church of Katy\, 24818 Saddlespur Lane\, Katy\, TX\, 77494\, United States
CATEGORIES:Main Event
ATTACH;FMTTYPE=image/jpeg:https://saintgeorgekaty.org/wp-content/uploads/2026/04/unnamed-2.jpg
END:VEVENT
BEGIN:VEVENT
DTSTART;TZID=UTC:20260404T150000
DTEND;TZID=UTC:20260404T170000
DTSTAMP:20260423T193234
CREATED:20260329T065918Z
LAST-MODIFIED:20260329T065918Z
UID:24242-1775314800-1775322000@saintgeorgekaty.org
SUMMARY:The Way of the Cross 2026
DESCRIPTION:“THAT I MAY KNOW HIM AND THE POWER OF HIS RESURRECTION AND THE FELLOWSHIP OF HIS SUFFERINGS\, BEING CONFORMED TO HIS DEATH” PHILIPPIANS 3:10 \nSAINT GEORGE COPTIC ORTHODOX CHURCH of Katy INVITES YOU TO JOIN US TO \nTHE WAY OF THE CROSS\nSATURDAY APRIL 4TH\, | 3:00 PM SAINT GEORGE CHURCH
URL:https://saintgeorgekaty.org/event/the-way-of-the-cross-2026/
LOCATION:St. Geroge Coptic Orthodox Church of Katy\, 24818 Saddlespur Lane\, Katy\, TX\, 77494\, United States
CATEGORIES:Main Event
ATTACH;FMTTYPE=image/jpeg:https://saintgeorgekaty.org/wp-content/uploads/2026/03/IMG_7271.jpeg
END:VEVENT
END:VCALENDAR