BEGIN:VCALENDAR
VERSION:2.0
PRODID:-//St. George Coptic Orthodox Church of Katy, TX - ECPv6.15.20//NONSGML v1.0//EN
CALSCALE:GREGORIAN
METHOD:PUBLISH
X-WR-CALNAME:St. George Coptic Orthodox Church of Katy, TX
X-ORIGINAL-URL:https://saintgeorgekaty.org
X-WR-CALDESC:Events for St. George Coptic Orthodox Church of Katy, TX
REFRESH-INTERVAL;VALUE=DURATION:PT1H
X-Robots-Tag:noindex
X-PUBLISHED-TTL:PT1H
BEGIN:VTIMEZONE
TZID:UTC
BEGIN:STANDARD
TZOFFSETFROM:+0000
TZOFFSETTO:+0000
TZNAME:UTC
DTSTART:20250101T000000
END:STANDARD
END:VTIMEZONE
BEGIN:VEVENT
DTSTART;TZID=UTC:20260501T183000
DTEND;TZID=UTC:20260501T220000
DTSTAMP:20260423T181012
CREATED:20200428T132832Z
LAST-MODIFIED:20260401T155712Z
UID:1200-1777660200-1777672800@saintgeorgekaty.org
SUMMARY:St. George Celebration
DESCRIPTION:We’ll celebrate the feast of St. George and the 1st Anniversary of the Good Shepherd Meeting.
URL:https://saintgeorgekaty.org/event/st-george-celebration/
LOCATION:St. Geroge Coptic Orthodox Church of Katy\, 24818 Saddlespur Lane\, Katy\, TX\, 77494\, United States
CATEGORIES:Main Event
ATTACH;FMTTYPE=image/jpeg:https://saintgeorgekaty.org/wp-content/uploads/2022/04/467405236_8810842878950661_701517199855080230_n.jpg
END:VEVENT
END:VCALENDAR